BEGIN:VCALENDAR
VERSION:2.0
PRODID:-//Ouss Zoglami - ECPv6.15.11//NONSGML v1.0//EN
CALSCALE:GREGORIAN
METHOD:PUBLISH
X-WR-CALNAME:Ouss Zoglami
X-ORIGINAL-URL:https://ousszoglami.com/?lang=en
X-WR-CALDESC:Events for Ouss Zoglami
REFRESH-INTERVAL;VALUE=DURATION:PT1H
X-Robots-Tag:noindex
X-PUBLISHED-TTL:PT1H
BEGIN:VTIMEZONE
TZID:America/Toronto
BEGIN:DAYLIGHT
TZOFFSETFROM:-0500
TZOFFSETTO:-0400
TZNAME:EDT
DTSTART:20240310T070000
END:DAYLIGHT
BEGIN:STANDARD
TZOFFSETFROM:-0400
TZOFFSETTO:-0500
TZNAME:EST
DTSTART:20241103T060000
END:STANDARD
BEGIN:DAYLIGHT
TZOFFSETFROM:-0500
TZOFFSETTO:-0400
TZNAME:EDT
DTSTART:20250309T070000
END:DAYLIGHT
BEGIN:STANDARD
TZOFFSETFROM:-0400
TZOFFSETTO:-0500
TZNAME:EST
DTSTART:20251102T060000
END:STANDARD
BEGIN:DAYLIGHT
TZOFFSETFROM:-0500
TZOFFSETTO:-0400
TZNAME:EDT
DTSTART:20260308T070000
END:DAYLIGHT
BEGIN:STANDARD
TZOFFSETFROM:-0400
TZOFFSETTO:-0500
TZNAME:EST
DTSTART:20261101T060000
END:STANDARD
END:VTIMEZONE
BEGIN:VTIMEZONE
TZID:Africa/Tunis
BEGIN:STANDARD
TZOFFSETFROM:+0100
TZOFFSETTO:+0100
TZNAME:CET
DTSTART:20230101T000000
END:STANDARD
END:VTIMEZONE
BEGIN:VEVENT
DTSTART;TZID=America/Toronto:20250126T090000
DTEND;TZID=America/Toronto:20250126T170000
DTSTAMP:20260420T144621
CREATED:20241018T133212Z
LAST-MODIFIED:20241018T133212Z
UID:10000012-1737882000-1737910800@ousszoglami.com
SUMMARY:Next LVL Life Transformation Canada
DESCRIPTION:
URL:https://ousszoglami.com/event/next-lvl-life-transformation-canada-2/?lang=en
LOCATION:Sheraton Laval\, 2440 A. des Laurentides\, Laval\, QC\, H7T 1X5\, Canada
GEO:45.5717021;73.7485974
X-APPLE-STRUCTURED-LOCATION;VALUE=URI;X-ADDRESS=Sheraton Laval 2440 A. des Laurentides Laval QC H7T 1X5 Canada;X-APPLE-RADIUS=500;X-TITLE=2440 A. des Laurentides:geo:73.7485974,45.5717021
END:VEVENT
BEGIN:VEVENT
DTSTART;TZID=America/Toronto:20250125T090000
DTEND;TZID=America/Toronto:20250125T170000
DTSTAMP:20260420T144621
CREATED:20241014T163129Z
LAST-MODIFIED:20241018T133857Z
UID:10000010-1737795600-1737824400@ousszoglami.com
SUMMARY:NEXT LVL LIFE Transformation CANADA D2
DESCRIPTION:Canada Day 2 access event
URL:https://ousszoglami.com/event/nllt-ca-d2-bcknd/?lang=en
LOCATION:Sheraton Laval\, 2440 A. des Laurentides\, Laval\, QC\, H7T 1X5\, Canada
GEO:45.5717021;73.7485974
X-APPLE-STRUCTURED-LOCATION;VALUE=URI;X-ADDRESS=Sheraton Laval 2440 A. des Laurentides Laval QC H7T 1X5 Canada;X-APPLE-RADIUS=500;X-TITLE=2440 A. des Laurentides:geo:73.7485974,45.5717021
END:VEVENT
BEGIN:VEVENT
DTSTART;TZID=America/Toronto:20250124T090000
DTEND;TZID=America/Toronto:20250124T170000
DTSTAMP:20260420T144621
CREATED:20241014T161208Z
LAST-MODIFIED:20241018T134119Z
UID:10000008-1737709200-1737738000@ousszoglami.com
SUMMARY:NEXT LVL LIFE Transformation CANADA
DESCRIPTION:
URL:https://ousszoglami.com/event/next-lvl-life-transformation-canada/?lang=en
LOCATION:Sheraton Laval\, 2440 A. des Laurentides\, Laval\, QC\, H7T 1X5\, Canada
GEO:45.5717021;73.7485974
X-APPLE-STRUCTURED-LOCATION;VALUE=URI;X-ADDRESS=Sheraton Laval 2440 A. des Laurentides Laval QC H7T 1X5 Canada;X-APPLE-RADIUS=500;X-TITLE=2440 A. des Laurentides:geo:73.7485974,45.5717021
END:VEVENT
BEGIN:VEVENT
DTSTART;TZID=Africa/Tunis:20241101T080000
DTEND;TZID=Africa/Tunis:20241103T170000
DTSTAMP:20260420T144621
CREATED:20241010T154612Z
LAST-MODIFIED:20241010T162205Z
UID:10000006-1730448000-1730653200@ousszoglami.com
SUMMARY:NEXT LVL LIFE Transformation 1\,2\,3 Novembre 2024
DESCRIPTION:Transformez votre vie lors de cet événement unique de développement personnel \nDécouvrez une expérience qui dépasse les séminaires traditionnels. Pendant ces 3 jours immersifs\, plongez dans une exploration profonde de votre vie intérieure. Libérez-vous des pensées limitantes et créez de nouvelles connexions neuronales pour une transformation durable. Apprenez à éliminer les émotions négatives qui impactent votre bien-être\, et réalisez votre plein potentiel pour devenir la personne que vous avez toujours rêvé d’être. \n 
URL:https://ousszoglami.com/event/next-lvl-life-transformation-nov2024/?lang=en
LOCATION:Ramada Plaza Gammarth\, Les Côtes de Carthages\, Gammarth\, Tunis\, Tunisia
ATTACH;FMTTYPE=image/jpeg:https://ousszoglami.com/wp-content/uploads/2024/06/Jour-1-50-scaled.jpg
GEO:36.9247741;10.2798728
X-APPLE-STRUCTURED-LOCATION;VALUE=URI;X-ADDRESS=Ramada Plaza Gammarth Les Côtes de Carthages Gammarth Tunis Tunisia;X-APPLE-RADIUS=500;X-TITLE=Les Côtes de Carthages:geo:10.2798728,36.9247741
END:VEVENT
END:VCALENDAR